BEGIN:VCALENDAR
VERSION:2.0
PRODID:-//Gminny Ośrodek Kultury im. Janusza Gniatkowskiego w Poraju - ECPv5.7.1//NONSGML v1.0//EN
CALSCALE:GREGORIAN
METHOD:PUBLISH
X-WR-CALNAME:Gminny Ośrodek Kultury im. Janusza Gniatkowskiego w Poraju
X-ORIGINAL-URL:http://gokporaj.pl
X-WR-CALDESC:Wydarzenia na Gminny Ośrodek Kultury im. Janusza Gniatkowskiego w Poraju
BEGIN:VTIMEZONE
TZID:Europe/Warsaw
BEGIN:DAYLIGHT
TZOFFSETFROM:+0100
TZOFFSETTO:+0200
TZNAME:CEST
DTSTART:20160327T010000
END:DAYLIGHT
BEGIN:STANDARD
TZOFFSETFROM:+0200
TZOFFSETTO:+0100
TZNAME:CET
DTSTART:20161030T010000
END:STANDARD
END:VTIMEZONE
BEGIN:VEVENT
DTSTART;TZID=Europe/Warsaw:20161207T170000
DTEND;TZID=Europe/Warsaw:20161207T170000
DTSTAMP:20260420T182610
CREATED:20161206T055244Z
LAST-MODIFIED:20161208T102755Z
UID:206-1481130000-1481130000@gokporaj.pl
SUMMARY:33 WARSZTATY KULINARNE
DESCRIPTION:
URL:http://gokporaj.pl/wydarzenie/33-warsztaty-kulinarne/
LOCATION:Budynek Wielofunkcyjny\, Masłońskie
CATEGORIES:Warsztaty kulinarne
ATTACH;FMTTYPE=image/jpeg:http://gokporaj.pl/wp-content/uploads/2016/12/warsztatymaslonskie2016.jpg
END:VEVENT
END:VCALENDAR