BEGIN:VCALENDAR
VERSION:2.0
PRODID:-//Gminny Ośrodek Kultury im. Janusza Gniatkowskiego w Poraju - ECPv5.7.1//NONSGML v1.0//EN
CALSCALE:GREGORIAN
METHOD:PUBLISH
X-WR-CALNAME:Gminny Ośrodek Kultury im. Janusza Gniatkowskiego w Poraju
X-ORIGINAL-URL:http://gokporaj.pl
X-WR-CALDESC:Wydarzenia na Gminny Ośrodek Kultury im. Janusza Gniatkowskiego w Poraju
BEGIN:VTIMEZONE
TZID:Europe/Warsaw
BEGIN:DAYLIGHT
TZOFFSETFROM:+0100
TZOFFSETTO:+0200
TZNAME:CEST
DTSTART:20250330T010000
END:DAYLIGHT
BEGIN:STANDARD
TZOFFSETFROM:+0200
TZOFFSETTO:+0100
TZNAME:CET
DTSTART:20251026T010000
END:STANDARD
END:VTIMEZONE
BEGIN:VEVENT
DTSTART;TZID=Europe/Warsaw:20251116T160000
DTEND;TZID=Europe/Warsaw:20251116T173000
DTSTAMP:20260422T111757
CREATED:20251113T115721Z
LAST-MODIFIED:20251113T115721Z
UID:28757-1763308800-1763314200@gokporaj.pl
SUMMARY:BAJKOWE NIEDZIELE
DESCRIPTION:
URL:http://gokporaj.pl/wydarzenie/bajkowe-niedziele-7/
LOCATION:Sala Widowiskowo-Kinowa „Bajka”
CATEGORIES:Wydarzenia
END:VEVENT
END:VCALENDAR