BEGIN:VCALENDAR
VERSION:2.0
PRODID:-//Gminny Ośrodek Kultury im. Janusza Gniatkowskiego w Poraju - ECPv5.7.1//NONSGML v1.0//EN
CALSCALE:GREGORIAN
METHOD:PUBLISH
X-WR-CALNAME:Gminny Ośrodek Kultury im. Janusza Gniatkowskiego w Poraju
X-ORIGINAL-URL:http://gokporaj.pl
X-WR-CALDESC:Wydarzenia na Gminny Ośrodek Kultury im. Janusza Gniatkowskiego w Poraju
BEGIN:VTIMEZONE
TZID:Europe/Warsaw
BEGIN:DAYLIGHT
TZOFFSETFROM:+0100
TZOFFSETTO:+0200
TZNAME:CEST
DTSTART:20250330T010000
END:DAYLIGHT
BEGIN:STANDARD
TZOFFSETFROM:+0200
TZOFFSETTO:+0100
TZNAME:CET
DTSTART:20251026T010000
END:STANDARD
END:VTIMEZONE
BEGIN:VEVENT
DTSTART;TZID=Europe/Warsaw:20250903T180000
DTEND;TZID=Europe/Warsaw:20250903T200000
DTSTAMP:20260421T014903
CREATED:20250902T064741Z
LAST-MODIFIED:20250902T064741Z
UID:28161-1756922400-1756929600@gokporaj.pl
SUMMARY:"COOBUS"  TADEUSZ KRZYSZTOF KNYZIAK - SPOTKANIE Z POETĄ
DESCRIPTION:
URL:http://gokporaj.pl/wydarzenie/coobus-tadeusz-krzysztof-knyziak-spotkanie-z-poeta/
LOCATION:Sala Widowiskowo-Kinowa „Bajka”
CATEGORIES:Wydarzenia
ATTACH;FMTTYPE=image/png:http://gokporaj.pl/wp-content/uploads/2025/08/Plakat-Coobus.png
END:VEVENT
END:VCALENDAR