BEGIN:VCALENDAR
VERSION:2.0
PRODID:-//Gminny Ośrodek Kultury im. Janusza Gniatkowskiego w Poraju - ECPv5.7.1//NONSGML v1.0//EN
CALSCALE:GREGORIAN
METHOD:PUBLISH
X-WR-CALNAME:Gminny Ośrodek Kultury im. Janusza Gniatkowskiego w Poraju
X-ORIGINAL-URL:http://gokporaj.pl
X-WR-CALDESC:Wydarzenia na Gminny Ośrodek Kultury im. Janusza Gniatkowskiego w Poraju
BEGIN:VTIMEZONE
TZID:Europe/Warsaw
BEGIN:DAYLIGHT
TZOFFSETFROM:+0100
TZOFFSETTO:+0200
TZNAME:CEST
DTSTART:20240331T010000
END:DAYLIGHT
BEGIN:STANDARD
TZOFFSETFROM:+0200
TZOFFSETTO:+0100
TZNAME:CET
DTSTART:20241027T010000
END:STANDARD
END:VTIMEZONE
BEGIN:VEVENT
DTSTART;TZID=Europe/Warsaw:20240229T080000
DTEND;TZID=Europe/Warsaw:20240229T170000
DTSTAMP:20260421T154547
CREATED:20240229T144805Z
LAST-MODIFIED:20240229T144805Z
UID:21920-1709193600-1709226000@gokporaj.pl
SUMMARY:FESTIWAL "NASZ TALENT" - ELIMINACJE GMINNE
DESCRIPTION:ELIMINACJE GMINNE
URL:http://gokporaj.pl/wydarzenie/festiwal-nasz-talent-eliminacje-gminne/
ATTACH;FMTTYPE=image/png:http://gokporaj.pl/wp-content/uploads/2024/02/KAFELKI-51-1.png
END:VEVENT
END:VCALENDAR