BEGIN:VCALENDAR
VERSION:2.0
PRODID:-//Gminny Ośrodek Kultury im. Janusza Gniatkowskiego w Poraju - ECPv5.7.1//NONSGML v1.0//EN
CALSCALE:GREGORIAN
METHOD:PUBLISH
X-WR-CALNAME:Gminny Ośrodek Kultury im. Janusza Gniatkowskiego w Poraju
X-ORIGINAL-URL:http://gokporaj.pl
X-WR-CALDESC:Wydarzenia na Gminny Ośrodek Kultury im. Janusza Gniatkowskiego w Poraju
BEGIN:VTIMEZONE
TZID:Europe/Warsaw
BEGIN:DAYLIGHT
TZOFFSETFROM:+0100
TZOFFSETTO:+0200
TZNAME:CEST
DTSTART:20250330T010000
END:DAYLIGHT
BEGIN:STANDARD
TZOFFSETFROM:+0200
TZOFFSETTO:+0100
TZNAME:CET
DTSTART:20251026T010000
END:STANDARD
END:VTIMEZONE
BEGIN:VEVENT
DTSTART;TZID=Europe/Warsaw:20250830T150000
DTEND;TZID=Europe/Warsaw:20250830T233000
DTSTAMP:20260422T110843
CREATED:20250416T082543Z
LAST-MODIFIED:20250416T082543Z
UID:26376-1756566000-1756596600@gokporaj.pl
SUMMARY:IMIENINY HRABINY
DESCRIPTION:
URL:http://gokporaj.pl/wydarzenie/imieniny-hrabiny-5/
LOCATION:Amfiteatr Żarki Letnisko
CATEGORIES:Wydarzenia
END:VEVENT
END:VCALENDAR