BEGIN:VCALENDAR
VERSION:2.0
PRODID:-//Gminny Ośrodek Kultury im. Janusza Gniatkowskiego w Poraju - ECPv5.7.1//NONSGML v1.0//EN
CALSCALE:GREGORIAN
METHOD:PUBLISH
X-WR-CALNAME:Gminny Ośrodek Kultury im. Janusza Gniatkowskiego w Poraju
X-ORIGINAL-URL:http://gokporaj.pl
X-WR-CALDESC:Wydarzenia na Gminny Ośrodek Kultury im. Janusza Gniatkowskiego w Poraju
BEGIN:VTIMEZONE
TZID:Europe/Warsaw
BEGIN:DAYLIGHT
TZOFFSETFROM:+0100
TZOFFSETTO:+0200
TZNAME:CEST
DTSTART:20160327T010000
END:DAYLIGHT
BEGIN:STANDARD
TZOFFSETFROM:+0200
TZOFFSETTO:+0100
TZNAME:CET
DTSTART:20161030T010000
END:STANDARD
END:VTIMEZONE
BEGIN:VEVENT
DTSTART;VALUE=DATE:20161202
DTEND;VALUE=DATE:20161203
DTSTAMP:20260420T135050
CREATED:20161122T123546Z
LAST-MODIFIED:20161122T123559Z
UID:105-1480636800-1480723199@gokporaj.pl
SUMMARY:Mikołaj 2016
DESCRIPTION:
URL:http://gokporaj.pl/wydarzenie/mikolaj-2016/
LOCATION:Sala Widowiskowo-Kinowa „Bajka”
END:VEVENT
END:VCALENDAR