BEGIN:VCALENDAR
VERSION:2.0
PRODID:-//Gminny Ośrodek Kultury im. Janusza Gniatkowskiego w Poraju - ECPv5.7.1//NONSGML v1.0//EN
CALSCALE:GREGORIAN
METHOD:PUBLISH
X-WR-CALNAME:Gminny Ośrodek Kultury im. Janusza Gniatkowskiego w Poraju
X-ORIGINAL-URL:http://gokporaj.pl
X-WR-CALDESC:Wydarzenia na Gminny Ośrodek Kultury im. Janusza Gniatkowskiego w Poraju
BEGIN:VTIMEZONE
TZID:Europe/Warsaw
BEGIN:DAYLIGHT
TZOFFSETFROM:+0100
TZOFFSETTO:+0200
TZNAME:CEST
DTSTART:20250330T010000
END:DAYLIGHT
BEGIN:STANDARD
TZOFFSETFROM:+0200
TZOFFSETTO:+0100
TZNAME:CET
DTSTART:20251026T010000
END:STANDARD
END:VTIMEZONE
BEGIN:VEVENT
DTSTART;TZID=Europe/Warsaw:20251129T090000
DTEND;TZID=Europe/Warsaw:20251129T140000
DTSTAMP:20260420T170448
CREATED:20251030T110833Z
LAST-MODIFIED:20251030T110833Z
UID:28634-1764406800-1764424800@gokporaj.pl
SUMMARY:MIKOŁAJKOWY TURNIEJ SZACHOWY
DESCRIPTION:
URL:http://gokporaj.pl/wydarzenie/mikolajkowy-turniej-szachowy-3/
LOCATION:GOK
CATEGORIES:Wydarzenia
END:VEVENT
END:VCALENDAR