BEGIN:VCALENDAR
VERSION:2.0
PRODID:-//Gminny Ośrodek Kultury im. Janusza Gniatkowskiego w Poraju - ECPv5.7.1//NONSGML v1.0//EN
CALSCALE:GREGORIAN
METHOD:PUBLISH
X-WR-CALNAME:Gminny Ośrodek Kultury im. Janusza Gniatkowskiego w Poraju
X-ORIGINAL-URL:http://gokporaj.pl
X-WR-CALDESC:Wydarzenia na Gminny Ośrodek Kultury im. Janusza Gniatkowskiego w Poraju
BEGIN:VTIMEZONE
TZID:Europe/Warsaw
BEGIN:DAYLIGHT
TZOFFSETFROM:+0100
TZOFFSETTO:+0200
TZNAME:CEST
DTSTART:20260329T010000
END:DAYLIGHT
BEGIN:STANDARD
TZOFFSETFROM:+0200
TZOFFSETTO:+0100
TZNAME:CET
DTSTART:20261025T010000
END:STANDARD
END:VTIMEZONE
BEGIN:VEVENT
DTSTART;TZID=Europe/Warsaw:20260313T180000
DTEND;TZID=Europe/Warsaw:20260410T180000
DTSTAMP:20260421T111854
CREATED:20260303T141438Z
LAST-MODIFIED:20260303T141438Z
UID:29882-1773424800-1775844000@gokporaj.pl
SUMMARY:"STUDIUM W PROCESIE" - WYSTAWA RYSUNKU
DESCRIPTION:
URL:http://gokporaj.pl/wydarzenie/studium-w-procesie-wystawa-rysunku/
LOCATION:Galeria Sztuki Współczesnej
CATEGORIES:Wydarzenia
ATTACH;FMTTYPE=image/png:http://gokporaj.pl/wp-content/uploads/2026/03/WYSTAWA-PRACOWNI-RYSUNKU-plakat.png
END:VEVENT
END:VCALENDAR