BEGIN:VCALENDAR
VERSION:2.0
PRODID:-//Gminny Ośrodek Kultury im. Janusza Gniatkowskiego w Poraju - ECPv5.7.1//NONSGML v1.0//EN
CALSCALE:GREGORIAN
METHOD:PUBLISH
X-WR-CALNAME:Gminny Ośrodek Kultury im. Janusza Gniatkowskiego w Poraju
X-ORIGINAL-URL:http://gokporaj.pl
X-WR-CALDESC:Wydarzenia na Gminny Ośrodek Kultury im. Janusza Gniatkowskiego w Poraju
BEGIN:VTIMEZONE
TZID:Europe/Warsaw
BEGIN:DAYLIGHT
TZOFFSETFROM:+0100
TZOFFSETTO:+0200
TZNAME:CEST
DTSTART:20260329T010000
END:DAYLIGHT
BEGIN:STANDARD
TZOFFSETFROM:+0200
TZOFFSETTO:+0100
TZNAME:CET
DTSTART:20261025T010000
END:STANDARD
END:VTIMEZONE
BEGIN:VEVENT
DTSTART;TZID=Europe/Warsaw:20260219T110000
DTEND;TZID=Europe/Warsaw:20260219T130000
DTSTAMP:20260420T135055
CREATED:20260216T113443Z
LAST-MODIFIED:20260216T113443Z
UID:29588-1771498800-1771506000@gokporaj.pl
SUMMARY:WARSZTATY ARTYSTYCZNE DLA DZIECI - SCRAPBOOKING
DESCRIPTION:
URL:http://gokporaj.pl/wydarzenie/warsztaty-artystyczne-dla-dzieci-scrapbooking/
LOCATION:GOK
CATEGORIES:Wydarzenia
END:VEVENT
END:VCALENDAR