BEGIN:VCALENDAR
VERSION:2.0
PRODID:-//Gminny Ośrodek Kultury im. Janusza Gniatkowskiego w Poraju - ECPv5.7.1//NONSGML v1.0//EN
CALSCALE:GREGORIAN
METHOD:PUBLISH
X-WR-CALNAME:Gminny Ośrodek Kultury im. Janusza Gniatkowskiego w Poraju
X-ORIGINAL-URL:http://gokporaj.pl
X-WR-CALDESC:Wydarzenia na Gminny Ośrodek Kultury im. Janusza Gniatkowskiego w Poraju
BEGIN:VTIMEZONE
TZID:Europe/Warsaw
BEGIN:DAYLIGHT
TZOFFSETFROM:+0100
TZOFFSETTO:+0200
TZNAME:CEST
DTSTART:20250330T010000
END:DAYLIGHT
BEGIN:STANDARD
TZOFFSETFROM:+0200
TZOFFSETTO:+0100
TZNAME:CET
DTSTART:20251026T010000
END:STANDARD
END:VTIMEZONE
BEGIN:VEVENT
DTSTART;TZID=Europe/Warsaw:20250906T150000
DTEND;TZID=Europe/Warsaw:20250906T170000
DTSTAMP:20260421T110336
CREATED:20250902T065614Z
LAST-MODIFIED:20250903T072045Z
UID:28167-1757170800-1757178000@gokporaj.pl
SUMMARY:WYSTAWA I WERNISAŻ PRAC STOWARZYSZENIA EMERYTÓW I RENCISTÓW POLICYJNYCH Z SIEMIANOWIC ŚLĄSKICH
DESCRIPTION:
URL:http://gokporaj.pl/wydarzenie/wystawa-i-wernisaz-prac-stowarzyszenia-emerytow-i-rencistow-policyjnych-z-siemianowic-slaskich/
LOCATION:Galeria Sztuki Współczesnej
CATEGORIES:Wydarzenia
ATTACH;FMTTYPE=image/jpeg:http://gokporaj.pl/wp-content/uploads/2025/09/Pakat-wernisaz-A4-do-druku_page-0001.jpg
END:VEVENT
END:VCALENDAR