BEGIN:VCALENDAR
VERSION:2.0
PRODID:-//Gminny Ośrodek Kultury im. Janusza Gniatkowskiego w Poraju - ECPv5.7.1//NONSGML v1.0//EN
CALSCALE:GREGORIAN
METHOD:PUBLISH
X-WR-CALNAME:Gminny Ośrodek Kultury im. Janusza Gniatkowskiego w Poraju
X-ORIGINAL-URL:http://gokporaj.pl
X-WR-CALDESC:Wydarzenia na Gminny Ośrodek Kultury im. Janusza Gniatkowskiego w Poraju
BEGIN:VTIMEZONE
TZID:Europe/Warsaw
BEGIN:DAYLIGHT
TZOFFSETFROM:+0100
TZOFFSETTO:+0200
TZNAME:CEST
DTSTART:20250330T010000
END:DAYLIGHT
BEGIN:STANDARD
TZOFFSETFROM:+0200
TZOFFSETTO:+0100
TZNAME:CET
DTSTART:20251026T010000
END:STANDARD
END:VTIMEZONE
BEGIN:VEVENT
DTSTART;TZID=Europe/Warsaw:20251121T180000
DTEND;TZID=Europe/Warsaw:20251121T200000
DTSTAMP:20260420T134615
CREATED:20251112T093151Z
LAST-MODIFIED:20251121T112527Z
UID:28727-1763748000-1763755200@gokporaj.pl
SUMMARY:WYSTAWA MALARSTWA I GRAFIKI - EWELINA KUSTRA
DESCRIPTION:
URL:http://gokporaj.pl/wydarzenie/wystawa-malarstwa-i-grafiki-eweliny-kustry/
LOCATION:Galeria Sztuki Współczesnej
CATEGORIES:Wydarzenia
ATTACH;FMTTYPE=image/png:http://gokporaj.pl/wp-content/uploads/2025/11/WYSTAWA-E.K.-PLAKAT-3PLAKATY-WYSTAWY-3.png
END:VEVENT
END:VCALENDAR