BEGIN:VCALENDAR
VERSION:2.0
PRODID:-//Gminny Ośrodek Kultury im. Janusza Gniatkowskiego w Poraju - ECPv5.7.1//NONSGML v1.0//EN
CALSCALE:GREGORIAN
METHOD:PUBLISH
X-WR-CALNAME:Gminny Ośrodek Kultury im. Janusza Gniatkowskiego w Poraju
X-ORIGINAL-URL:http://gokporaj.pl
X-WR-CALDESC:Wydarzenia na Gminny Ośrodek Kultury im. Janusza Gniatkowskiego w Poraju
BEGIN:VTIMEZONE
TZID:Europe/Warsaw
BEGIN:DAYLIGHT
TZOFFSETFROM:+0100
TZOFFSETTO:+0200
TZNAME:CEST
DTSTART:20250330T010000
END:DAYLIGHT
BEGIN:STANDARD
TZOFFSETFROM:+0200
TZOFFSETTO:+0100
TZNAME:CET
DTSTART:20251026T010000
END:STANDARD
END:VTIMEZONE
BEGIN:VEVENT
DTSTART;TZID=Europe/Warsaw:20250823T150000
DTEND;TZID=Europe/Warsaw:20250823T230000
DTSTAMP:20260420T214218
CREATED:20250730T112611Z
LAST-MODIFIED:20250730T112611Z
UID:27730-1755961200-1755990000@gokporaj.pl
SUMMARY:XIV CHOROŃSKIE PRAŻUCHY
DESCRIPTION:
URL:http://gokporaj.pl/wydarzenie/xiv-choronskie-prazuchy/
LOCATION:ALEJA LIPOWA\, CHOROŃ\, ŻARKI LETNISKO\, Choroń\, śląskie\, 42-360\, Poland
CATEGORIES:Wydarzenia
ATTACH;FMTTYPE=image/jpeg:http://gokporaj.pl/wp-content/uploads/2025/07/PRAZUCHY-PLAKAT.jpg
END:VEVENT
END:VCALENDAR