BEGIN:VCALENDAR
VERSION:2.0
PRODID:-//Gminny Ośrodek Kultury im. Janusza Gniatkowskiego w Poraju - ECPv5.7.1//NONSGML v1.0//EN
CALSCALE:GREGORIAN
METHOD:PUBLISH
X-WR-CALNAME:Gminny Ośrodek Kultury im. Janusza Gniatkowskiego w Poraju
X-ORIGINAL-URL:http://gokporaj.pl
X-WR-CALDESC:Wydarzenia na Gminny Ośrodek Kultury im. Janusza Gniatkowskiego w Poraju
BEGIN:VTIMEZONE
TZID:Europe/Warsaw
BEGIN:DAYLIGHT
TZOFFSETFROM:+0100
TZOFFSETTO:+0200
TZNAME:CEST
DTSTART:20260329T010000
END:DAYLIGHT
BEGIN:STANDARD
TZOFFSETFROM:+0200
TZOFFSETTO:+0100
TZNAME:CET
DTSTART:20261025T010000
END:STANDARD
END:VTIMEZONE
BEGIN:VEVENT
DTSTART;TZID=Europe/Warsaw:20260321T090000
DTEND;TZID=Europe/Warsaw:20260321T110000
DTSTAMP:20260421T161047
CREATED:20260317T142001Z
LAST-MODIFIED:20260317T142001Z
UID:30017-1774083600-1774090800@gokporaj.pl
SUMMARY:ZAJĘCIA SZACHOWE
DESCRIPTION:
URL:http://gokporaj.pl/wydarzenie/zajecia-szachowe-3/
LOCATION:GOK
CATEGORIES:Wydarzenia
ATTACH;FMTTYPE=image/png:http://gokporaj.pl/wp-content/uploads/2026/03/♟️-ZAJECIA-SZACHOWE-♟️-21.03.2026.png
END:VEVENT
END:VCALENDAR